BEGIN:VCALENDAR
VERSION:2.0
PRODID:-//hacksw/handcal//NONSGML v1.0//EN
BEGIN:VEVENT
SUMMARY:Complexe ferme - Lundi de Paques
UID:29862066-200f-41ec-b2dc-f60dfdbd8126
DTSTART:20260406T153000Z
DTEND:20260406T170000Z
LOCATION:Localisation   
CATEGORIES:Sportif
STATUS:
URL;VALUE=URI:https://www.baditeuil.fr/evenements/2026/04/06/complexe-ferme-lundi-de-paques-2366149
END:VEVENT
END:VCALENDAR
