BEGIN:VCALENDAR
VERSION:2.0
PRODID:-//hacksw/handcal//NONSGML v1.0//EN
BEGIN:VEVENT
SUMMARY:Seance PROLONGEE Loisir 19h30-22h30
UID:0266538f-7c19-418a-89a3-78a764438194
DTSTART:20260326T183000Z
DTEND:20260326T200000Z
LOCATION:Localisation   
CATEGORIES:Sportif
STATUS:
URL;VALUE=URI:https://www.baditeuil.fr/evenements/2026/03/26/seance-prolongee-loisir-19h30-22h30-2366200
END:VEVENT
END:VCALENDAR
